BEGIN:VCALENDAR
VERSION:2.0
PRODID:spatie/icalendar-generator
DESCRIPTION:Events from Equest
X-WR-CALDESC:Events from Equest
REFRESH-INTERVAL;VALUE=DURATION:PT1440M
X-PUBLISHED-TTL:PT1440M
BEGIN:VTIMEZONE
TZID:Etc/GMT+0
BEGIN:STANDARD
DTSTART:20250811T000000Z
TZOFFSETFROM:+0000
TZOFFSETTO:+0000
END:STANDARD
END:VTIMEZONE
BEGIN:VTIMEZONE
TZID:UTC
BEGIN:STANDARD
DTSTART:20250724T151144Z
TZOFFSETFROM:+0000
TZOFFSETTO:+0000
END:STANDARD
END:VTIMEZONE
BEGIN:VEVENT
UID:72-54
DTSTAMP:20260420T151144Z
SUMMARY:Equest Spring Horse Show
LOCATION:Equest 811 Pemberton Hill Rd Building 4 Dallas TX 75217
ORGANIZER;CN=Angela Escamilla:MAILTO:aescamilla@equest.org
DTSTART;TZID=Etc/GMT+0;VALUE=DATE:20260508
DTEND;TZID=Etc/GMT+0;VALUE=DATE:20260510
X-ALT-DESC;FMTTYPE=TEXT/HTML:
CATEGORIES:General
URL;VALUE=URI:https://equest.org/mc-events/equest-spring-horse-show/
METHOD:PUBLISH
END:VEVENT
END:VCALENDAR